BEGIN:VCALENDAR
VERSION:2.0
PRODID:-//banat.sportcafe.ro - ECPv6.15.11//NONSGML v1.0//EN
CALSCALE:GREGORIAN
METHOD:PUBLISH
X-ORIGINAL-URL:https://banat.sportcafe.ro
X-WR-CALDESC:Evenimente pentru banat.sportcafe.ro
REFRESH-INTERVAL;VALUE=DURATION:PT1H
X-Robots-Tag:noindex
X-PUBLISHED-TTL:PT1H
BEGIN:VTIMEZONE
TZID:Europe/Bucharest
BEGIN:DAYLIGHT
TZOFFSETFROM:+0200
TZOFFSETTO:+0300
TZNAME:EEST
DTSTART:20240331T010000
END:DAYLIGHT
BEGIN:STANDARD
TZOFFSETFROM:+0300
TZOFFSETTO:+0200
TZNAME:EET
DTSTART:20241027T010000
END:STANDARD
BEGIN:DAYLIGHT
TZOFFSETFROM:+0200
TZOFFSETTO:+0300
TZNAME:EEST
DTSTART:20250330T010000
END:DAYLIGHT
BEGIN:STANDARD
TZOFFSETFROM:+0300
TZOFFSETTO:+0200
TZNAME:EET
DTSTART:20251026T010000
END:STANDARD
BEGIN:DAYLIGHT
TZOFFSETFROM:+0200
TZOFFSETTO:+0300
TZNAME:EEST
DTSTART:20260329T010000
END:DAYLIGHT
BEGIN:STANDARD
TZOFFSETFROM:+0300
TZOFFSETTO:+0200
TZNAME:EET
DTSTART:20261025T010000
END:STANDARD
BEGIN:DAYLIGHT
TZOFFSETFROM:+0200
TZOFFSETTO:+0300
TZNAME:EEST
DTSTART:20270328T010000
END:DAYLIGHT
BEGIN:STANDARD
TZOFFSETFROM:+0300
TZOFFSETTO:+0200
TZNAME:EET
DTSTART:20271031T010000
END:STANDARD
END:VTIMEZONE
BEGIN:VEVENT
DTSTART;TZID=Europe/Bucharest:20260305T193000
DTEND;TZID=Europe/Bucharest:20260305T193000
DTSTAMP:20260419T190715
CREATED:20251119T105944Z
LAST-MODIFIED:20251119T105949Z
UID:874-1772739000-1772739000@banat.sportcafe.ro
SUMMARY:Timișoara: Direcția 5 - Cultural Tour 2026
DESCRIPTION:Îți dăm întâlnire cu cele mai frumoase cântece Direcția 5\, acele cântece cu care ai crescut și pe care nu le vei uita niciodată. Orice muzică ați asculta\, a noastră este diferită! Direcția 5 vă iubește! \nBILETE AICI
URL:https://banat.sportcafe.ro/eveniment/timisoara-directia-5-cultural-tour-2026/
LOCATION:Filarmonica Banatul – Sala Capitol\, Bulevardul Constantin Diaconovici Loga 2\, Timișoara\, Timișoara\, Timiș\, 300022\, Romania
CATEGORIES:CONCERTE
ATTACH;FMTTYPE=image/jpeg:https://banat.sportcafe.ro/wp-content/uploads/2025/11/directia-5.jpg
END:VEVENT
BEGIN:VEVENT
DTSTART;TZID=Europe/Bucharest:20260222T170000
DTEND;TZID=Europe/Bucharest:20260222T170000
DTSTAMP:20260419T190715
CREATED:20260207T190741Z
LAST-MODIFIED:20260207T190747Z
UID:2186-1771779600-1771779600@banat.sportcafe.ro
SUMMARY:Lansare carte și expoziție foto Flavian Savescu
DESCRIPTION: De la real la augmentat. Artistul vizual în epoca post-fotografic\n– volum semnat de Flavian Savescu \nÎntr-o perioadă în care imaginea nu mai este doar ceea ce surprinde aparatul foto\, ci ceea ce poate genera un algoritm\, acest eveniment propune o discuție necesară despre transformarea privirii contemporane. Volumul semnat de Flavian Savescu analizează traseul imaginii de la real la augmentat\, de la document la simulare\, într-un context dominat de tehnologie și inteligență artificială. \nLansarea nu este doar un moment editorial\, ci un pretext pentru dialog. \nAlături de autor\, dr. fil. Ada Cruceanu și prof. univ. dr. Dorel Găină vor deschide o conversație despre rolul artistului într-o epocă în care granița dintre creație umană și producție algoritmică devine tot mai fragilă. \nEvenimentul este completat de vernisarea unei expoziții de artă digitală generativă\, care mută discuția din plan teoretic direct în experiența vizuală. Publicul nu va primi răspunsuri definitive\, dar va pleca\, aproape sigur\, cu mai multe întrebări decât a avut la intrare.
URL:https://banat.sportcafe.ro/eveniment/lansare-carte-si-expozitie-foto-flavian-savescu/
LOCATION:Centrul Multifuncțional Reșița\, Bulevardul Revoluţia din Decembrie 40-42\, Reșița\, Caraș-Severin\, 320086\, Romania
CATEGORIES:CULTURĂ
ATTACH;FMTTYPE=image/jpeg:https://banat.sportcafe.ro/wp-content/uploads/2026/02/Lansare-carte-flavian-savescu.jpg
END:VEVENT
BEGIN:VEVENT
DTSTART;TZID=Europe/Bucharest:20260217T190000
DTEND;TZID=Europe/Bucharest:20260217T190000
DTSTAMP:20260419T190715
CREATED:20251116T155744Z
LAST-MODIFIED:20251117T104827Z
UID:630-1771354800-1771354800@banat.sportcafe.ro
SUMMARY:REȘIȚA / Direcția 5 - Cultural Tour 2026
DESCRIPTION:Îți dăm întâlnire cu cele mai frumoase cântece Direcția 5\, acele cântece cu care ai crescut și pe care nu le vei uita niciodată. Orice muzică ați asculta\, a noastră este diferită! Direcția 5 vă iubește!\nAccesul copiilor cu vârsta de până la 12 ani însoțiți de părinți este gratuit.\n\nEvenimentul de la Reșița va avea loc marți\, 17 februarie 2026\, de la ora 19:00\, la Cinema Dacia.\nBILETE AICI
URL:https://banat.sportcafe.ro/eveniment/directia-5-cultural-tour-2026/
LOCATION:Cinema Dacia\, Strada Progresului\, Reșița\, Caraș-Severin\, Romania
CATEGORIES:MUZICĂ
ATTACH;FMTTYPE=image/jpeg:https://banat.sportcafe.ro/wp-content/uploads/2025/11/directia-5-cultural-tour-2026.jpg
END:VEVENT
BEGIN:VEVENT
DTSTART;TZID=Europe/Bucharest:20260119T193000
DTEND;TZID=Europe/Bucharest:20260119T193000
DTSTAMP:20260419T190715
CREATED:20251123T222100Z
LAST-MODIFIED:20251123T222106Z
UID:1160-1768851000-1768851000@banat.sportcafe.ro
SUMMARY:Reșița: Stand-up comedy cu Cîrje\, Florin\, Dobrotă și Popinciuc
DESCRIPTION:Cîrje\, Florin\, Dobrotă și Popinciuc sunt puși pe șotii\, caterincă\, glume\, poante\, farse și poate magie dacă are Florinel dispoziția necesară. \nAccesul se face cu jumătate de oră înainte de spectacol și este permis până la ora de începere. \nBILETE AICI
URL:https://banat.sportcafe.ro/eveniment/resita-stand-up-comedy-cu-cirje-florin-dobrota-si-popinciuc/
LOCATION:Cinema Dacia\, Strada Progresului\, Reșița\, Caraș-Severin\, Romania
CATEGORIES:STAND UP
ATTACH;FMTTYPE=image/jpeg:https://banat.sportcafe.ro/wp-content/uploads/2025/11/stand-up-comedy-resita.jpg
END:VEVENT
BEGIN:VEVENT
DTSTART;TZID=Europe/Bucharest:20260117T200000
DTEND;TZID=Europe/Bucharest:20260117T200000
DTSTAMP:20260419T190715
CREATED:20251123T223012Z
LAST-MODIFIED:20251123T223039Z
UID:1165-1768680000-1768680000@banat.sportcafe.ro
SUMMARY:Lugoj: Stand-up comedy cu Cîrje\, Florin\, Dobrotă și Popinciuc
DESCRIPTION:Cîrje\, Florin\, Dobrotă și Popinciuc sunt puși pe șotii\, caterincă\, glume\, poante\, farse și poate magie dacă are Florinel dispoziția necesară. \nAccesul se face cu jumătate de oră înainte de spectacol și este permis până la ora de începere.\nBILETE AICI
URL:https://banat.sportcafe.ro/eveniment/lugoj-stand-up-comedy-cu-cirje-florin-dobrota-si-popinciuc/
LOCATION:Casa de Cultură „Traian Grozăvescu”\, Splaiul Coriolan Brediceanu 5\, Lugoj\, Timiș\, 305500\, Romania
CATEGORIES:STAND UP
ATTACH;FMTTYPE=image/jpeg:https://banat.sportcafe.ro/wp-content/uploads/2025/11/stand-up-comedy-lugoj.jpg
END:VEVENT
BEGIN:VEVENT
DTSTART;TZID=Europe/Bucharest:20260117T190000
DTEND;TZID=Europe/Bucharest:20260117T190000
DTSTAMP:20260419T190715
CREATED:20251119T111628Z
LAST-MODIFIED:20251119T111633Z
UID:890-1768676400-1768676400@banat.sportcafe.ro
SUMMARY:TEATRU / Dragostea durează opt ani
DESCRIPTION:„Dragostea durează până când unul dintre parteneri își amintește unde a pus lista cu defectele celuilalt”. \nO comedie cu mult haz\, ironie și realism romantic\, unde nimic nu este ce pare\, iar iubirea e tratată ca o glumă… serioasă. \nProducție a Teatrului Metronom\, cu o distribuție sclipitoare: Leonid Doni\, Paul Ipate\, Irina Antonie. \nScenografie semnată de Maria Nicola\, Picturi: Bogdan Andronic Andronicuss. \nBILETE AICI
URL:https://banat.sportcafe.ro/eveniment/teatru-dragostea-dureaza-opt-ani/
LOCATION:Filarmonica Banatul – Sala Capitol\, Bulevardul Constantin Diaconovici Loga 2\, Timișoara\, Timișoara\, Timiș\, 300022\, Romania
CATEGORIES:TEATRU
ATTACH;FMTTYPE=image/jpeg:https://banat.sportcafe.ro/wp-content/uploads/2025/11/dragostea-dureaza-opt-ani.jpg
END:VEVENT
BEGIN:VEVENT
DTSTART;TZID=Europe/Bucharest:20251217T180000
DTEND;TZID=Europe/Bucharest:20251217T180000
DTSTAMP:20260419T190715
CREATED:20251119T105023Z
LAST-MODIFIED:20251119T105028Z
UID:867-1765994400-1765994400@banat.sportcafe.ro
SUMMARY:Teatru pentru copii / Eroi de poveste - Caransebeș
DESCRIPTION:“Eroi de Poveste” – Magia Crăciunului prinde viață doar o singură dată! \nVeți trăi o aventură cum nu s-a mai văzut: “Eroi de Poveste”\, un spectacol muzical unic\, plin de magie\, umor și emoție\, creat pentru întreaga familie. \nCel mai mare Stitch din România – o apariție spectaculoasă de peste 3 metri înălțime – va coborî direct din lumea poveștilor pe scenă\, gata să facă cunoștință cu cei mici.\nMickey și Minnie Mouse vor aduce veselia și energia care i-au cucerit pe copii din toate colțurile lumii.\nPersonaje surpriză din povești îndrăgite vor apărea pe parcursul serii\, purtând publicul într-o călătorie magică de Crăciun\, cu decoruri fermecate\, muzică\, dans și momente interactive. \nAtmosfera de sărbătoare va crește de la scenă la sală\, până la momentul mult așteptat: Moș Crăciun în persoană va urca pe scenă pentru a oferi fiecărui copil un dar dulce și un zâmbet pe care îl va ține minte toată viața.\nNu rata întâlnirea cu Moș Crăciun\, care așteaptă scrisorile tale după spectacol. \nBILETE AICI
URL:https://banat.sportcafe.ro/eveniment/teatru-pentru-copii-eroi-de-poveste-caransebes/
LOCATION:Casa de Cultură „George Suru”\, Strada Episcopiei 6\, Caransebeș\, Caraș-Severin\, 325400\, Romania
CATEGORIES:TEATRU
ATTACH;FMTTYPE=image/jpeg:https://banat.sportcafe.ro/wp-content/uploads/2025/11/bilete-eroi-de-poveste-caransebes.jpg
END:VEVENT
BEGIN:VEVENT
DTSTART;TZID=Europe/Bucharest:20251215T190000
DTEND;TZID=Europe/Bucharest:20251215T190000
DTSTAMP:20260419T190715
CREATED:20251119T110936Z
LAST-MODIFIED:20251119T110941Z
UID:885-1765825200-1765825200@banat.sportcafe.ro
SUMMARY:Timișoara: Bosquito LIVE @SalaCapitol
DESCRIPTION:Ai fost cu noi pe stadion?\nHai mai aproape!\nO nouă experiență live\, într-o variantă specială „Strings & Brass Edition”\nConcert special cu Quartet Passione și Brass Trio – Harvis Cuni Padron (trompetă)\, Valentin Zachar (saxofon)\, Antonio Segui (trombon)\nÎn plus\, poți comanda în exclusivitate Vinilul dublu „Sus” – ediție limitată\, la 299 lei \nNe vedem în 15 decembrie\, negreşit! \nBILETE AICI
URL:https://banat.sportcafe.ro/eveniment/timisoara-bosquito-live-salacapitol/
LOCATION:Filarmonica Banatul – Sala Capitol\, Bulevardul Constantin Diaconovici Loga 2\, Timișoara\, Timișoara\, Timiș\, 300022\, Romania
CATEGORIES:CONCERTE
ATTACH;FMTTYPE=image/jpeg:https://banat.sportcafe.ro/wp-content/uploads/2025/11/bosquito-timisoara.jpg
END:VEVENT
BEGIN:VEVENT
DTSTART;TZID=Europe/Bucharest:20251212T200000
DTEND;TZID=Europe/Bucharest:20251212T200000
DTSTAMP:20260419T190715
CREATED:20251119T104057Z
LAST-MODIFIED:20251119T104143Z
UID:859-1765569600-1765569600@banat.sportcafe.ro
SUMMARY:Dynamite Fighting Show 29 - Arde Banatul
DESCRIPTION:Cea mai mare organizație de sporturi de contact din România\, Dynamite Fighting Show\, ajunge pe 12 decembrie la Sala Constantin Jude din Timișoara\, pentru finala sezonului 2025. Organizată sub titulatura „Arde Banatul”\, ediția DFS cu numărul 29 îi va aduce față în față\, în main event\, pe cei mai iubiți luptători ai Timișoarei din acest moment: Daniel Corbeanu și Flavius Biea. \nBILETE AICI
URL:https://banat.sportcafe.ro/eveniment/dynamite-fighting-show-29-arde-banatul/
LOCATION:Sala „Constantin Jude”\, Aleea F. C. Ripensia 7\, Timișoara\, Timiș\, P6WR+FF Timișoara\, Romania
CATEGORIES:SPORT
ATTACH;FMTTYPE=image/jpeg:https://banat.sportcafe.ro/wp-content/uploads/2025/11/bilete-dynamite-fighting-show-arde-banatul.jpg
END:VEVENT
BEGIN:VEVENT
DTSTART;TZID=Europe/Bucharest:20251129T190000
DTEND;TZID=Europe/Bucharest:20251129T190000
DTSTAMP:20260419T190715
CREATED:20251119T110531Z
LAST-MODIFIED:20251119T110542Z
UID:879-1764442800-1764442800@banat.sportcafe.ro
SUMMARY:Timișoara: Sub fereastră la om bun! Suzana și Daciana Vlad - Gemenele Folclorului Maramureșean
DESCRIPTION:Turneu național de colinde: “Sub fereastră la om bun!” susținut de Suzana și Daciana Vlad\, Gemenele Folclorului Maramureșean. \nÎn luna sărbătorilor de iarnă\, publicul din România va avea parte de un eveniment cultural deosebit: turneul național de colinde intitulat “Sub fereastră la om bun”\, susținut de artistele Suzana și Daciana Vlad\, Gemenele Folclorului Maramureșean. Cele două surori îndrăgite vor urca pe scenele a 12 orașe din țară\, aducând magia colindelor românești mai aproape de sufletele oamenilor. \nCu această ocazie\, artistele lansează și noul lor album de colinde\, intitulat “Colindați măi oameni buni”\, cel de-al 9-lea material discografic din cariera lor. Albumul conține compoziții proprii\, continuând misiunea lor de a păstra vie frumusețea colindului românesc. \nEvenimentul marchează\, totodată\, o dublă sărbătoare: 20 de ani de carieră artistică pentru Suzana și Daciana Vlad. De două decenii\, cele două artiste se află pe scena românească\, ducând mai departe cu emoție și autenticitate tradiția cântecului popular și a colindului. \nBILETE AICI
URL:https://banat.sportcafe.ro/eveniment/timisoara-sub-fereastra-la-om-bun-suzana-si-daciana-vlad-gemenele-folclorului-maramuresean/
LOCATION:Filarmonica Banatul – Sala Capitol\, Bulevardul Constantin Diaconovici Loga 2\, Timișoara\, Timișoara\, Timiș\, 300022\, Romania
CATEGORIES:CONCERTE
ATTACH;FMTTYPE=image/jpeg:https://banat.sportcafe.ro/wp-content/uploads/2025/11/sub-fereastra-la-om-bun.jpg
END:VEVENT
BEGIN:VEVENT
DTSTART;TZID=Europe/Bucharest:20251126T190000
DTEND;TZID=Europe/Bucharest:20251126T190000
DTSTAMP:20260419T190715
CREATED:20251117T105735Z
LAST-MODIFIED:20251117T105739Z
UID:697-1764183600-1764183600@banat.sportcafe.ro
SUMMARY:Timisoara: Tudor Gheorghe - The best of de toamnă
DESCRIPTION:La 80 de ani\, Maestrul Tudor Gheorghe continuă seria concertelor „The Best Of” cu cea de a doua parte\, Meditație la Frunzele Toamnei\, ce adună cele mai frumoase compoziții ale sale cu tematică de toamnă într-un eveniment cultural excepțional ce poartă aceeași amprentă de unicitate specifice concertelor Maestrului. Acompaniat de această dată de corul și Orchestra Concertino\, orchestrator și Dirijor\, Marius Hristescu. \nBILETE AICI
URL:https://banat.sportcafe.ro/eveniment/timisoara-tudor-gheorghe-the-best-of-de-toamna/
LOCATION:Filarmonica Banatul – Sala Capitol\, Bulevardul Constantin Diaconovici Loga 2\, Timișoara\, Timișoara\, Timiș\, 300022\, Romania
CATEGORIES:CONCERTE
ATTACH;FMTTYPE=image/jpeg:https://banat.sportcafe.ro/wp-content/uploads/2025/11/the-best-of-toamna-tudor-gheorghe.jpg
END:VEVENT
BEGIN:VEVENT
DTSTART;TZID=Europe/Bucharest:20251123T100000
DTEND;TZID=Europe/Bucharest:20251123T100000
DTSTAMP:20260419T190715
CREATED:20251116T160848Z
LAST-MODIFIED:20251117T203058Z
UID:639-1763892000-1763892000@banat.sportcafe.ro
SUMMARY:Anina - Turneul Prieteniei 2025
DESCRIPTION:Turneul Prieteniei face parte din activitatea nr. 5 a programului „Sportul pentru toți”\, în cadrul proiectului „Și Noi Contăm”\, finanțat cu sprijinul Consiliului Județean Caraș-Severin. Scopul e simplu: să le oferim copiilor ocazia să învețe fotbalul\, să se distreze și să-și facă prieteni prin sport.\nParticipante: ACS Viitorul Anina 2014\, U9 ACS Viitorul Anina\, U7 Timstar Timișoara I și II – antrenor  Ciprian Badea\, Nera Bogodinț\, Raisa Timișoara – antrenor Gelu Haidău. \nEvenimentul sportiv va avea loc duminică\, 23 noiembrie 2025\, la sala de sport din Anina. \n \nTURNEUL PRIETENIEI 2025\nPROGRAMUL TURNEULUI\nGrupa A: Viitorul Anina 2014 – I\, Timstar Junior Timișoara\, Nera Bogodinț\nGrupa B: Raisa Timișoara\, Timstar Junior Timișoara\, Viitorul Anina 2014 – II \nProgramul meciurilor:\nA.10.00-10.25 Viitorul Anina I – Nera Bogodinț\nB.10.25-10.55 Timstar Junior I – Viitorul Anina II\nA.10.55-11.20 Nera Bogodinț -Timstar Junior II\nB.11.20-11.45 Raisa Timișoara – Viitorul Anina II\nA.11.45-12.10 Viitorul Anina I-Timstar Junior II\nB.12.10-12.35 Timstar Junior I-Raisa Timisoara \nSEMIFINALE\n12.45-13.10 LOCUL I A-LOCUL II B \n13.10-13.35 LOCUL II A-LOCUL I B \n13.35-14.00 LOCURILE 5-6 -LOCUL III A-LOCUL III B \n14.00 -14.25 LOCURILE 3-4 -ÎNVINSELE DIN SEMIFINALE \n14.30-15.00 FINALA -CÂȘTIGĂTOARELE DIN SEMIFINALE \nFIECARE ECHIPĂ VA PRIMI DIPLOME. LOCURILE 1\,2\,3\, VOR FI PREMIATE CU MEDALII\, CUPE\, DIPLOME. FIECARE ECHIPĂ VA PRIMI 10 PIZZA +1 PIZZA ANTRENOR
URL:https://banat.sportcafe.ro/eveniment/anina-turneul-prieteniei-2025/
LOCATION:Sala Sporturilor Anina\, Strada Mihail Sadoveanu 1\, Anina\, Caraș-Severin\, 325100\, Romania
CATEGORIES:SPORT
ATTACH;FMTTYPE=image/jpeg:https://banat.sportcafe.ro/wp-content/uploads/2025/11/tunreul-prieteniei.jpg
END:VEVENT
BEGIN:VEVENT
DTSTART;TZID=Europe/Bucharest:20251121T200000
DTEND;TZID=Europe/Bucharest:20251121T200000
DTSTAMP:20260419T190715
CREATED:20251117T111101Z
LAST-MODIFIED:20251117T153153Z
UID:714-1763755200-1763755200@banat.sportcafe.ro
SUMMARY:Timișoara: Baba Novak
DESCRIPTION:Pe 19 aprilie\, trupa Baba Novak a lansat piesa „Zbor Liber”\, o compoziție semnată de Nicu Covaci\, cu versuri scrise după plecarea sa\, dar cu gândul mereu la el. Acest omagiu emoționant este doar începutul unui an special pentru trupă.\nAnul acesta vor lansa primul album\, „Cântecele Haiducilor”\, care va conține nouă compoziții originale – o parte dintre ele vor putea fi ascultate în premieră în concert. \nProiectul este o sinteză folk-rock a unor compoziții ce au devenit parte din patrimoniul cultural românesc\, menținând viu spiritul liber și speranța de-a lungul timpului. \nTrupa Baba Novak vrea să ducă mai departe moștenirea artistică și mesajul lui Nicu Covaci\, „ultimul haiduc autentic al societății moderne”\, care le-a oferit încredere și o parte dintre compozițiile Phoenix. \nComponența trupei: \nMihai Stârcea – voce\, chitară\nRăzvan Pisău – vioară\, voce\nRadu Gheorghe – percuție\, voce\nDan Bănică – bas\nRadu Grațianu – clape\nGeorge Sărluceanu – chitară\, voce\nCătălin Costin – sunet \nGratuitate au copii sub 12 ani însoțiți de un adult cu bilet și persoanele cu dizabilități care atestă un document la intrare. \nEveniment susținut de Fundația Județeană pentru Tineret Timiș – FITT în cadrul programului cultural Time to Rock. \nBILETE AICI
URL:https://banat.sportcafe.ro/eveniment/timisoara-baba-novak/
LOCATION:Casa Tineretului FITT Timișoara\, Str. Arieș 19\, Timișoara\, Timiș\, 300579
CATEGORIES:CONCERTE
ATTACH;FMTTYPE=image/jpeg:https://banat.sportcafe.ro/wp-content/uploads/2025/11/baba-novak.jpg
END:VEVENT
BEGIN:VEVENT
DTSTART;TZID=Europe/Bucharest:20251116T180000
DTEND;TZID=Europe/Bucharest:20251116T180000
DTSTAMP:20260419T190715
CREATED:20251116T033638Z
LAST-MODIFIED:20251116T033913Z
UID:533-1763316000-1763316000@banat.sportcafe.ro
SUMMARY:FESTIVALUL INTERNAȚIONAL „SABIN PAUTZA”
DESCRIPTION:Ediția a XII-a a Festivalului Internațional „Sabin Pautza” (F.I.S.P.) aduce în fața publicului două seri muzicale excepționale\, organizate în ciuda dificultăților financiare care aproape au dus la anularea evenimentului. Festivalul\, organizat de Metarsis – activități și servicii de cultură urbană și artă contemporană\, continuă tradiția de a celebra creația maestrului Sabin Pautza și valorile muzicii clasice europene. \n \n  \nConcert de Gală – Duminică\, 16 noiembrie 2025\nOra 18:00 – Liceul de Arte „Sabin Păutza”\, Sala Lira \nSeara de gală include: \n\nPrezentarea laureaților Concursului de Compoziție FISP XII\, 2025\nAcordarea Premiului „Octavian Doclin”\nOrchestra simfonică a Liceului „Ion Vidu” Timișoara\nDirijor: Cosmin Hârșian\n\nÎn program: J. Sibelius\, A. Vivaldi\, K. Jenkins\, W.A. Mozart\, G. Verdi\, G. Bizet\, A. Dvořák.
URL:https://banat.sportcafe.ro/eveniment/festivalul-international-sabin-pautza-5/
LOCATION:Liceul de Arte „Sabin Păutza”\, Aleea Herculane 3\, Reșița\, Caraș-Severin\, Romania
CATEGORIES:FESTIVALURI
ATTACH;FMTTYPE=image/jpeg:https://banat.sportcafe.ro/wp-content/uploads/2025/11/sabin-pautza.jpg
END:VEVENT
BEGIN:VEVENT
DTSTART;TZID=Europe/Bucharest:20251116T180000
DTEND;TZID=Europe/Bucharest:20251116T180000
DTSTAMP:20260419T190715
CREATED:20251116T033618Z
LAST-MODIFIED:20251116T033924Z
UID:531-1763316000-1763316000@banat.sportcafe.ro
SUMMARY:FESTIVALUL INTERNAȚIONAL „SABIN PAUTZA”
DESCRIPTION:Ediția a XII-a a Festivalului Internațional „Sabin Pautza” (F.I.S.P.) aduce în fața publicului două seri muzicale excepționale\, organizate în ciuda dificultăților financiare care aproape au dus la anularea evenimentului. Festivalul\, organizat de Metarsis – activități și servicii de cultură urbană și artă contemporană\, continuă tradiția de a celebra creația maestrului Sabin Pautza și valorile muzicii clasice europene. \n \n  \nConcert de Gală – Duminică\, 16 noiembrie 2025\nOra 18:00 – Liceul de Arte „Sabin Păutza”\, Sala Lira \nSeara de gală include: \n\nPrezentarea laureaților Concursului de Compoziție FISP XII\, 2025\nAcordarea Premiului „Octavian Doclin”\nOrchestra simfonică a Liceului „Ion Vidu” Timișoara\nDirijor: Cosmin Hârșian\n\nÎn program: J. Sibelius\, A. Vivaldi\, K. Jenkins\, W.A. Mozart\, G. Verdi\, G. Bizet\, A. Dvořák.
URL:https://banat.sportcafe.ro/eveniment/festivalul-international-sabin-pautza-4/
LOCATION:Liceul de Arte „Sabin Păutza”\, Aleea Herculane 3\, Reșița\, Caraș-Severin\, Romania
CATEGORIES:FESTIVALURI
ATTACH;FMTTYPE=image/jpeg:https://banat.sportcafe.ro/wp-content/uploads/2025/11/sabin-pautza.jpg
END:VEVENT
BEGIN:VEVENT
DTSTART;TZID=Europe/Bucharest:20251116T180000
DTEND;TZID=Europe/Bucharest:20251116T180000
DTSTAMP:20260419T190715
CREATED:20251116T033545Z
LAST-MODIFIED:20251116T033933Z
UID:529-1763316000-1763316000@banat.sportcafe.ro
SUMMARY:FESTIVALUL INTERNAȚIONAL „SABIN PAUTZA”
DESCRIPTION:Ediția a XII-a a Festivalului Internațional „Sabin Pautza” (F.I.S.P.) aduce în fața publicului două seri muzicale excepționale\, organizate în ciuda dificultăților financiare care aproape au dus la anularea evenimentului. Festivalul\, organizat de Metarsis – activități și servicii de cultură urbană și artă contemporană\, continuă tradiția de a celebra creația maestrului Sabin Pautza și valorile muzicii clasice europene. \n \n  \nConcert de Gală – Duminică\, 16 noiembrie 2025\nOra 18:00 – Liceul de Arte „Sabin Păutza”\, Sala Lira \nSeara de gală include: \n\nPrezentarea laureaților Concursului de Compoziție FISP XII\, 2025\nAcordarea Premiului „Octavian Doclin”\nOrchestra simfonică a Liceului „Ion Vidu” Timișoara\nDirijor: Cosmin Hârșian\n\nÎn program: J. Sibelius\, A. Vivaldi\, K. Jenkins\, W.A. Mozart\, G. Verdi\, G. Bizet\, A. Dvořák.
URL:https://banat.sportcafe.ro/eveniment/festivalul-international-sabin-pautza-3/
LOCATION:Liceul de Arte „Sabin Păutza”\, Aleea Herculane 3\, Reșița\, Caraș-Severin\, Romania
CATEGORIES:FESTIVALURI
ATTACH;FMTTYPE=image/jpeg:https://banat.sportcafe.ro/wp-content/uploads/2025/11/sabin-pautza.jpg
END:VEVENT
BEGIN:VEVENT
DTSTART;TZID=Europe/Bucharest:20251116T180000
DTEND;TZID=Europe/Bucharest:20251116T180000
DTSTAMP:20260419T190715
CREATED:20251116T033528Z
LAST-MODIFIED:20251116T034006Z
UID:527-1763316000-1763316000@banat.sportcafe.ro
SUMMARY:FESTIVALUL INTERNAȚIONAL „SABIN PAUTZA”
DESCRIPTION:Ediția a XII-a a Festivalului Internațional „Sabin Pautza” (F.I.S.P.) aduce în fața publicului două seri muzicale excepționale\, organizate în ciuda dificultăților financiare care aproape au dus la anularea evenimentului. Festivalul\, organizat de Metarsis – activități și servicii de cultură urbană și artă contemporană\, continuă tradiția de a celebra creația maestrului Sabin Pautza și valorile muzicii clasice europene. \n \n  \nConcert de Gală – Duminică\, 16 noiembrie 2025\nOra 18:00 – Liceul de Arte „Sabin Păutza”\, Sala Lira \nSeara de gală include: \n\nPrezentarea laureaților Concursului de Compoziție FISP XII\, 2025\nAcordarea Premiului „Octavian Doclin”\nOrchestra simfonică a Liceului „Ion Vidu” Timișoara\nDirijor: Cosmin Hârșian\n\nÎn program: J. Sibelius\, A. Vivaldi\, K. Jenkins\, W.A. Mozart\, G. Verdi\, G. Bizet\, A. Dvořák.
URL:https://banat.sportcafe.ro/eveniment/festivalul-international-sabin-pautza-2-2/
LOCATION:Liceul de Arte „Sabin Păutza”\, Aleea Herculane 3\, Reșița\, Caraș-Severin\, Romania
CATEGORIES:FESTIVALURI
ATTACH;FMTTYPE=image/jpeg:https://banat.sportcafe.ro/wp-content/uploads/2025/11/sabin-pautza.jpg
END:VEVENT
BEGIN:VEVENT
DTSTART;TZID=Europe/Bucharest:20251116T180000
DTEND;TZID=Europe/Bucharest:20251116T180000
DTSTAMP:20260419T190715
CREATED:20251116T033504Z
LAST-MODIFIED:20251116T033955Z
UID:525-1763316000-1763316000@banat.sportcafe.ro
SUMMARY:FESTIVALUL INTERNAȚIONAL „SABIN PAUTZA”
DESCRIPTION:Ediția a XII-a a Festivalului Internațional „Sabin Pautza” (F.I.S.P.) aduce în fața publicului două seri muzicale excepționale\, organizate în ciuda dificultăților financiare care aproape au dus la anularea evenimentului. Festivalul\, organizat de Metarsis – activități și servicii de cultură urbană și artă contemporană\, continuă tradiția de a celebra creația maestrului Sabin Pautza și valorile muzicii clasice europene. \n \n  \nConcert de Gală – Duminică\, 16 noiembrie 2025\nOra 18:00 – Liceul de Arte „Sabin Păutza”\, Sala Lira \nSeara de gală include: \n\nPrezentarea laureaților Concursului de Compoziție FISP XII\, 2025\nAcordarea Premiului „Octavian Doclin”\nOrchestra simfonică a Liceului „Ion Vidu” Timișoara\nDirijor: Cosmin Hârșian\n\nÎn program: J. Sibelius\, A. Vivaldi\, K. Jenkins\, W.A. Mozart\, G. Verdi\, G. Bizet\, A. Dvořák.
URL:https://banat.sportcafe.ro/eveniment/festivalul-international-sabin-pautza-2/
LOCATION:Liceul de Arte „Sabin Păutza”\, Aleea Herculane 3\, Reșița\, Caraș-Severin\, Romania
CATEGORIES:FESTIVALURI
ATTACH;FMTTYPE=image/jpeg:https://banat.sportcafe.ro/wp-content/uploads/2025/11/sabin-pautza.jpg
END:VEVENT
BEGIN:VEVENT
DTSTART;TZID=Europe/Bucharest:20251116T180000
DTEND;TZID=Europe/Bucharest:20251116T180000
DTSTAMP:20260419T190715
CREATED:20251116T012759Z
LAST-MODIFIED:20251116T033945Z
UID:489-1763316000-1763316000@banat.sportcafe.ro
SUMMARY:FESTIVALUL INTERNAȚIONAL „SABIN PAUTZA”
DESCRIPTION:Ediția a XII-a a Festivalului Internațional „Sabin Pautza” (F.I.S.P.) aduce în fața publicului două seri muzicale excepționale\, organizate în ciuda dificultăților financiare care aproape au dus la anularea evenimentului. Festivalul\, organizat de Metarsis – activități și servicii de cultură urbană și artă contemporană\, continuă tradiția de a celebra creația maestrului Sabin Pautza și valorile muzicii clasice europene. \n \n  \nConcert de Gală – Duminică\, 16 noiembrie 2025\nOra 18:00 – Liceul de Arte „Sabin Păutza”\, Sala Lira \nSeara de gală include: \n\nPrezentarea laureaților Concursului de Compoziție FISP XII\, 2025\nAcordarea Premiului „Octavian Doclin”\nOrchestra simfonică a Liceului „Ion Vidu” Timișoara\nDirijor: Cosmin Hârșian\n\nÎn program: J. Sibelius\, A. Vivaldi\, K. Jenkins\, W.A. Mozart\, G. Verdi\, G. Bizet\, A. Dvořák.
URL:https://banat.sportcafe.ro/eveniment/festivalul-international-sabin-pautza/
LOCATION:Liceul de Arte „Sabin Păutza”\, Aleea Herculane 3\, Reșița\, Caraș-Severin\, Romania
CATEGORIES:FESTIVALURI
ATTACH;FMTTYPE=image/jpeg:https://banat.sportcafe.ro/wp-content/uploads/2025/11/sabin-pautza.jpg
END:VEVENT
END:VCALENDAR